BEGIN:VCALENDAR
VERSION:2.0
PRODID:-//NERO: Border Lands - ECPv6.15.7//NONSGML v1.0//EN
CALSCALE:GREGORIAN
METHOD:PUBLISH
X-WR-CALNAME:NERO: Border Lands
X-ORIGINAL-URL:https://www.intotheborderlands.com
X-WR-CALDESC:Events for NERO: Border Lands
REFRESH-INTERVAL;VALUE=DURATION:PT1H
X-Robots-Tag:noindex
X-PUBLISHED-TTL:PT1H
BEGIN:VTIMEZONE
TZID:UTC
BEGIN:STANDARD
TZOFFSETFROM:+0000
TZOFFSETTO:+0000
TZNAME:UTC
DTSTART:20230101T000000
END:STANDARD
END:VTIMEZONE
BEGIN:VEVENT
DTSTART;TZID=UTC:20241108T190000
DTEND;TZID=UTC:20241110T120000
DTSTAMP:20260420T173156
CREATED:20230828T001556Z
LAST-MODIFIED:20240921T222856Z
UID:2827-1731092400-1731240000@www.intotheborderlands.com
SUMMARY:The Ever Foretold - Nov
DESCRIPTION:The Seers’ hands overtake the crystalline ball. The vision vocalized sends chills down your spine. The realization of severe consequences from the actions taken thus far may finally be catching up. Do you attempt apologies? You can’t\, your voice is far away yet deafening. The Seer is gone\, and the world disappears to smoke and ash.
URL:https://www.intotheborderlands.com/event/the-ever-foretold/
LOCATION:Disciples Crossing Creative Camp\, 3693 State Highway 31 E\, Athens\, TX\, 75752\, United States
CATEGORIES:Market Gather
ATTACH;FMTTYPE=image/png:https://www.intotheborderlands.com/wp-content/uploads/2023/08/HermitSittingUponHisOwn.png
ORGANIZER;CN="Christopher Roberts":MAILTO:contactus@intotheborderlands.com
END:VEVENT
END:VCALENDAR