BEGIN:VCALENDAR
VERSION:2.0
PRODID:-//NERO: Border Lands - ECPv6.15.7//NONSGML v1.0//EN
CALSCALE:GREGORIAN
METHOD:PUBLISH
X-WR-CALNAME:NERO: Border Lands
X-ORIGINAL-URL:https://www.intotheborderlands.com
X-WR-CALDESC:Events for NERO: Border Lands
REFRESH-INTERVAL;VALUE=DURATION:PT1H
X-Robots-Tag:noindex
X-PUBLISHED-TTL:PT1H
BEGIN:VTIMEZONE
TZID:UTC
BEGIN:STANDARD
TZOFFSETFROM:+0000
TZOFFSETTO:+0000
TZNAME:UTC
DTSTART:20230101T000000
END:STANDARD
END:VTIMEZONE
BEGIN:VEVENT
DTSTART;TZID=UTC:20240216T190000
DTEND;TZID=UTC:20240218T120000
DTSTAMP:20260420T173327
CREATED:20230823T003806Z
LAST-MODIFIED:20230827T234232Z
UID:2782-1708110000-1708257600@www.intotheborderlands.com
SUMMARY:The Longer Night - February
DESCRIPTION:The night strolls slowly\, peeling the light away\, and the danger reels its head. The face is indistinguishable from the recognizable. You glance in the distance and fear is what you see!
URL:https://www.intotheborderlands.com/event/the-longer-night/
LOCATION:Disciples Crossing Creative Camp\, 3693 State Highway 31 E\, Athens\, TX\, 75752\, United States
CATEGORIES:Market Gather
ATTACH;FMTTYPE=image/png:https://www.intotheborderlands.com/wp-content/uploads/2023/08/FebuaryCalltoActionforAll.png
ORGANIZER;CN="Christopher Roberts":MAILTO:contactus@intotheborderlands.com
END:VEVENT
END:VCALENDAR