BEGIN:VCALENDAR
VERSION:2.0
PRODID:-//NERO: Border Lands - ECPv6.15.7//NONSGML v1.0//EN
CALSCALE:GREGORIAN
METHOD:PUBLISH
X-WR-CALNAME:NERO: Border Lands
X-ORIGINAL-URL:https://www.intotheborderlands.com
X-WR-CALDESC:Events for NERO: Border Lands
REFRESH-INTERVAL;VALUE=DURATION:PT1H
X-Robots-Tag:noindex
X-PUBLISHED-TTL:PT1H
BEGIN:VTIMEZONE
TZID:UTC
BEGIN:STANDARD
TZOFFSETFROM:+0000
TZOFFSETTO:+0000
TZNAME:UTC
DTSTART:20230101T000000
END:STANDARD
END:VTIMEZONE
BEGIN:VEVENT
DTSTART;TZID=UTC:20240322T190000
DTEND;TZID=UTC:20240324T120000
DTSTAMP:20260420T223104
CREATED:20230827T234722Z
LAST-MODIFIED:20240301T043113Z
UID:2810-1711134000-1711281600@www.intotheborderlands.com
SUMMARY:The Royal March - March
DESCRIPTION:The stomps\, they remain consistent and melodic as they progress forward. The thrumming gains traction and gets closer\, all within range. Their weapons stand at the ready aimed toward you!
URL:https://www.intotheborderlands.com/event/the-royal-march/
LOCATION:Disciples Crossing Creative Camp\, 3693 State Highway 31 E\, Athens\, TX\, 75752\, United States
CATEGORIES:Market Gather
ATTACH;FMTTYPE=image/png:https://www.intotheborderlands.com/wp-content/uploads/2023/08/ProclaimationforNoblesMarch.png
ORGANIZER;CN="Christopher Roberts":MAILTO:contactus@intotheborderlands.com
END:VEVENT
END:VCALENDAR